BEGIN:VCALENDAR
VERSION:2.0
PRODID:-//Agrupamento de Escolas de Pombal - ECPv6.15.12.2//NONSGML v1.0//EN
CALSCALE:GREGORIAN
METHOD:PUBLISH
X-WR-CALNAME:Agrupamento de Escolas de Pombal
X-ORIGINAL-URL:https://www.aepombal.edu.pt
X-WR-CALDESC:Eventos para Agrupamento de Escolas de Pombal
REFRESH-INTERVAL;VALUE=DURATION:PT1H
X-Robots-Tag:noindex
X-PUBLISHED-TTL:PT1H
BEGIN:VTIMEZONE
TZID:Europe/Lisbon
BEGIN:DAYLIGHT
TZOFFSETFROM:+0000
TZOFFSETTO:+0100
TZNAME:WEST
DTSTART:20220327T010000
END:DAYLIGHT
BEGIN:STANDARD
TZOFFSETFROM:+0100
TZOFFSETTO:+0000
TZNAME:WET
DTSTART:20221030T010000
END:STANDARD
BEGIN:DAYLIGHT
TZOFFSETFROM:+0000
TZOFFSETTO:+0100
TZNAME:WEST
DTSTART:20230326T010000
END:DAYLIGHT
BEGIN:STANDARD
TZOFFSETFROM:+0100
TZOFFSETTO:+0000
TZNAME:WET
DTSTART:20231029T010000
END:STANDARD
BEGIN:DAYLIGHT
TZOFFSETFROM:+0000
TZOFFSETTO:+0100
TZNAME:WEST
DTSTART:20240331T010000
END:DAYLIGHT
BEGIN:STANDARD
TZOFFSETFROM:+0100
TZOFFSETTO:+0000
TZNAME:WET
DTSTART:20241027T010000
END:STANDARD
BEGIN:DAYLIGHT
TZOFFSETFROM:+0000
TZOFFSETTO:+0100
TZNAME:WEST
DTSTART:20250330T010000
END:DAYLIGHT
BEGIN:STANDARD
TZOFFSETFROM:+0100
TZOFFSETTO:+0000
TZNAME:WET
DTSTART:20251026T010000
END:STANDARD
BEGIN:DAYLIGHT
TZOFFSETFROM:+0000
TZOFFSETTO:+0100
TZNAME:WEST
DTSTART:20260329T010000
END:DAYLIGHT
BEGIN:STANDARD
TZOFFSETFROM:+0100
TZOFFSETTO:+0000
TZNAME:WET
DTSTART:20261025T010000
END:STANDARD
END:VTIMEZONE
BEGIN:VEVENT
DTSTART;VALUE=DATE:20231002
DTEND;VALUE=DATE:20240616
DTSTAMP:20260419T194652
CREATED:20230929T190239Z
LAST-MODIFIED:20230929T190239Z
UID:41723-1696204800-1718495999@www.aepombal.edu.pt
SUMMARY:Green Cork - Projeto de reciclagem de rolhas de cortiça.
DESCRIPTION:Com o Green Cork pretende-se de recolher rolhas de cortiça na escola\, para financiar reflorestação/plantação de espécies autóctones e contribuir para a construção duma comunidade ativa\, responsável e em sintonia com o meio ambiente. Os objetivos são\, entre outros: – Divulgar material de promoção do Green Cork na escola e envolventes; – Desenvolver a consciência de pertença como condómino da Terra. -Contribuir para a redução de resíduos; –  Fomentar o trabalho de equipa e partilha de boas práticas.
URL:https://www.aepombal.edu.pt/atividade/green-cork-projeto-de-reciclagem-de-rolhas-de-cortica/
LOCATION:EBMP
END:VEVENT
BEGIN:VEVENT
DTSTART;TZID=Europe/Lisbon:20231201T090000
DTEND;TZID=Europe/Lisbon:20240531T160000
DTSTAMP:20260419T194652
CREATED:20231129T174858Z
LAST-MODIFIED:20231129T174858Z
UID:42567-1701421200-1717171200@www.aepombal.edu.pt
SUMMARY:Atividades desenvolvimento pensamento computacional | Pré-escolar
DESCRIPTION:De Dezembro de 2023 a maio de 2024 serão realizadas\, mensalmente\, atividades de desenvolvimento do pensamento computacional no ensino pré-escolar com os seguintes objetivos: – Promover o Pensamento Computacional no ensino Pré- Escolar; – Potenciar a resolução de problemas; – Estimular o pensamento crítico e criativo; – Desenvolver a autonomia; – Desenvolver competências elencadas no Perfil dos Alunos à Saída da Escolaridade Obrigatória.
URL:https://www.aepombal.edu.pt/atividade/atividades-desenvolvimento-pensamento-computacional-pre-escolar/
LOCATION:Jardins de Infância do Agrupamento
END:VEVENT
BEGIN:VEVENT
DTSTART;TZID=Europe/Lisbon:20240502T090000
DTEND;TZID=Europe/Lisbon:20240531T180000
DTSTAMP:20260419T194652
CREATED:20240502T193106Z
LAST-MODIFIED:20240505T212527Z
UID:44568-1714640400-1717178400@www.aepombal.edu.pt
SUMMARY:Mês de Maio\, Mês do Coração
DESCRIPTION:Realização de atividades promotoras do saúde em geral e da prevenção das doenças cardíacas. Divulgação de informação importante para toda a comunidade escolar. Campanha de consciencialização sobre as doenças cardiovasculares e a importância de cuidar do coração. As doenças cardiovasculares são as principais causas de morte em todo o mundo\, mas muitas delas podem ser prevenidas com a adoção de um estilo de vida saudável e com cuidados médicos regulares.
URL:https://www.aepombal.edu.pt/atividade/mes-de-maio-mes-do-coracao/
LOCATION:ESP e EBMP
END:VEVENT
BEGIN:VEVENT
DTSTART;TZID=Europe/Lisbon:20240527T090000
DTEND;TZID=Europe/Lisbon:20240531T180000
DTSTAMP:20260419T194652
CREATED:20240502T193352Z
LAST-MODIFIED:20240505T212345Z
UID:44570-1716800400-1717178400@www.aepombal.edu.pt
SUMMARY:Dia Mundial sem tabaco
DESCRIPTION:Divulgação de informação à comunidade escolar sobre os malefícios do tabaco e da importância de adotar estilos de vida livres de tabaco. Com o tema “Proteger as crianças da interferência da indústria do tabaco”\, em contexto de sala de aula/ família\, serão propostos dilemas que possibilitam uma reflexão sobre o consumo de tabaco\, nomeadamente os seus efeitos na saúde\, economia\, família\, sociedade e ambiente. \n 
URL:https://www.aepombal.edu.pt/atividade/dia-mundial-sem-tabaco/
LOCATION:ESP e EBMP
END:VEVENT
BEGIN:VEVENT
DTSTART;TZID=Europe/Lisbon:20240601T090000
DTEND;TZID=Europe/Lisbon:20240630T170000
DTSTAMP:20260419T194652
CREATED:20240530T115958Z
LAST-MODIFIED:20240530T115958Z
UID:44935-1717232400-1719766800@www.aepombal.edu.pt
SUMMARY:Senhor Escaldão
DESCRIPTION:Promoção da adoção de hábitos de prevenção das queimaduras solares para alunos do pré-escolar e do primeiro ciclo do ensino básico.
URL:https://www.aepombal.edu.pt/atividade/senhor-escaldao/
LOCATION:Nos jardins de infância e escolas do 1.º CEB
END:VEVENT
BEGIN:VEVENT
DTSTART;TZID=Europe/Lisbon:20240604T090000
DTEND;TZID=Europe/Lisbon:20240604T130000
DTSTAMP:20260419T194652
CREATED:20240530T115724Z
LAST-MODIFIED:20240530T115724Z
UID:44932-1717491600-1717506000@www.aepombal.edu.pt
SUMMARY:Colheita de sangue
DESCRIPTION:A atividade tem por objetivos a sensibilização da comunidade escolar\, sobretudo os alunos com 18 anos ou mais para a importância da dádiva de sangue. Tem também por objetivo promover uma recolha de sangue para o Instituto do sangue e da transplantação. A atividade é promovida na comunidade escolar e aberta a toda a comunidade.
URL:https://www.aepombal.edu.pt/atividade/colheita-de-sangue/
LOCATION:ESP
END:VEVENT
BEGIN:VEVENT
DTSTART;TZID=Europe/Lisbon:20240613T083000
DTEND;TZID=Europe/Lisbon:20240613T190000
DTSTAMP:20260419T194652
CREATED:20240528T160832Z
LAST-MODIFIED:20240528T160832Z
UID:44920-1718267400-1718305200@www.aepombal.edu.pt
SUMMARY:Parque Aquático Praia das Rocas
DESCRIPTION:Esta atividade lúdica tem como objetivo consolidar aptidões no âmbito da natação adaptada\, da Educação ambiental e Cidadania bem como criar momentos de lazer direcionados para a descoberta consciente do meio aquático. Destina-se aos alunos com medidas adicionais da Sala Multicor\, da EB Marquês de Pombal e Secundária.
URL:https://www.aepombal.edu.pt/atividade/parque-aquatico-praia-das-rocas/
LOCATION:Praia das Rocas – Castanheira de Pêra
END:VEVENT
BEGIN:VEVENT
DTSTART;VALUE=DATE:20250109
DTEND;VALUE=DATE:20250111
DTSTAMP:20260419T194652
CREATED:20250107T174546Z
LAST-MODIFIED:20250107T174546Z
UID:46555-1736380800-1736553599@www.aepombal.edu.pt
SUMMARY:Ciclo de Cinema - Projeto Comboio da Memória
DESCRIPTION:
URL:https://www.aepombal.edu.pt/atividade/ciclo-de-cinema-projeto-comboio-da-memoria/
LOCATION:Auditório Drª Gabriela Coelho – Escola Secundária de Pombal
END:VEVENT
BEGIN:VEVENT
DTSTART;VALUE=DATE:20250117
DTEND;VALUE=DATE:20250118
DTSTAMP:20260419T194652
CREATED:20250107T112626Z
LAST-MODIFIED:20250107T113604Z
UID:46540-1737072000-1737158399@www.aepombal.edu.pt
SUMMARY:Palestra - "Portugueses nos Campos de Concentração e nas Prisões do III Reich"
DESCRIPTION:
URL:https://www.aepombal.edu.pt/atividade/portugueses-nos-campos-de-concentracao-e-nas-prisoes-do-iii-reich/
LOCATION:Mini Auditório – Teatro Cine de Pombal
END:VEVENT
BEGIN:VEVENT
DTSTART;VALUE=DATE:20250127
DTEND;VALUE=DATE:20250128
DTSTAMP:20260419T194652
CREATED:20250107T113322Z
LAST-MODIFIED:20250107T113447Z
UID:46545-1737936000-1738022399@www.aepombal.edu.pt
SUMMARY:Palestra - "Os Diários do Holocausto"
DESCRIPTION:
URL:https://www.aepombal.edu.pt/atividade/palestra-os-diarios-do-holocausto/
LOCATION:Auditório Drª Gabriela Coelho – Escola Secundária de Pombal
END:VEVENT
BEGIN:VEVENT
DTSTART;TZID=Europe/Lisbon:20250331T080000
DTEND;TZID=Europe/Lisbon:20250401T120000
DTSTAMP:20260419T194652
CREATED:20250331T131935Z
LAST-MODIFIED:20250331T131935Z
UID:47391-1743408000-1743508800@www.aepombal.edu.pt
SUMMARY:Pensar o sono com os livros
DESCRIPTION:
URL:https://www.aepombal.edu.pt/atividade/pensar-o-sono-com-os-livros/
END:VEVENT
END:VCALENDAR